BEGIN:VCALENDAR
VERSION:2.0
PRODID:-//Hear Center - ECPv6.15.20//NONSGML v1.0//EN
CALSCALE:GREGORIAN
METHOD:PUBLISH
X-WR-CALNAME:Hear Center
X-ORIGINAL-URL:https://www.hearcenter.org
X-WR-CALDESC:Events for Hear Center
REFRESH-INTERVAL;VALUE=DURATION:PT1H
X-Robots-Tag:noindex
X-PUBLISHED-TTL:PT1H
BEGIN:VTIMEZONE
TZID:America/Los_Angeles
BEGIN:DAYLIGHT
TZOFFSETFROM:-0800
TZOFFSETTO:-0700
TZNAME:PDT
DTSTART:20200308T100000
END:DAYLIGHT
BEGIN:STANDARD
TZOFFSETFROM:-0700
TZOFFSETTO:-0800
TZNAME:PST
DTSTART:20201101T090000
END:STANDARD
BEGIN:DAYLIGHT
TZOFFSETFROM:-0800
TZOFFSETTO:-0700
TZNAME:PDT
DTSTART:20210314T100000
END:DAYLIGHT
BEGIN:STANDARD
TZOFFSETFROM:-0700
TZOFFSETTO:-0800
TZNAME:PST
DTSTART:20211107T090000
END:STANDARD
BEGIN:DAYLIGHT
TZOFFSETFROM:-0800
TZOFFSETTO:-0700
TZNAME:PDT
DTSTART:20220313T100000
END:DAYLIGHT
BEGIN:STANDARD
TZOFFSETFROM:-0700
TZOFFSETTO:-0800
TZNAME:PST
DTSTART:20221106T090000
END:STANDARD
BEGIN:DAYLIGHT
TZOFFSETFROM:-0800
TZOFFSETTO:-0700
TZNAME:PDT
DTSTART:20230312T100000
END:DAYLIGHT
BEGIN:STANDARD
TZOFFSETFROM:-0700
TZOFFSETTO:-0800
TZNAME:PST
DTSTART:20231105T090000
END:STANDARD
BEGIN:DAYLIGHT
TZOFFSETFROM:-0800
TZOFFSETTO:-0700
TZNAME:PDT
DTSTART:20240310T100000
END:DAYLIGHT
BEGIN:STANDARD
TZOFFSETFROM:-0700
TZOFFSETTO:-0800
TZNAME:PST
DTSTART:20241103T090000
END:STANDARD
BEGIN:DAYLIGHT
TZOFFSETFROM:-0800
TZOFFSETTO:-0700
TZNAME:PDT
DTSTART:20250309T100000
END:DAYLIGHT
BEGIN:STANDARD
TZOFFSETFROM:-0700
TZOFFSETTO:-0800
TZNAME:PST
DTSTART:20251102T090000
END:STANDARD
END:VTIMEZONE
BEGIN:VEVENT
DTSTART;TZID=America/Los_Angeles:20211217T090000
DTEND;TZID=America/Los_Angeles:20240419T110000
DTSTAMP:20260423T054449
CREATED:20240329T165423Z
LAST-MODIFIED:20240329T165424Z
UID:52907-1639731600-1713524400@www.hearcenter.org
SUMMARY:FREE HEARING SCREENING in Pasadena
DESCRIPTION:\n					\n						Date\n						April 19\, 2024 \n					\n				\n			\n			\n				\n				\n				\n				\n				\n				\n				\n				\n				\n				\n					}\n					\n						Time\n						09:00 AM – 11:00 AM \n					\n				\n			\n			\n				\n				\n				\n				\n			\n				\n				\n				\n				\n				\n				\n				\n				\n				\n				\n				Free Hearing Screening at Pasadena Senior Center\, located at: 85 E. Holly St.\, Pasadena\, CA 91103\n			\n				\n				\n				\n				\n				To schedule a Hearing or Speech Screening\nPlease contact our Screening Coordinator: \nAngelica Tamayoatamayo@hearcenter.org626-796-2016 ext. 30 \nFrom July 1\, 2018 to June 30\, 2019\, HEAR Center: \n\nProvided Free Hearing and Speech Screenings to over 7\,000 children and adults. 92% of those were children.\n\nWe would love to increase our services and hope that you consider giving a donation to HEAR Center. Please help us continue our services by making a donation today! \nPlease make check payable to: HEAR CenterMail check to: 301 E. Del Mar Blvd\, Pasadena\, CA 91101 \nOr make a credit card donation online:\n			\n				Click Here to Donate\n			\n			\n				\n				\n				\n				\n			\n				\n				\n				\n				\n				\n				\n				\n				\n				\n				\n				Any questions? Need help making a donation to HEAR Center? \nPlease email our Development Associate\, Joey Lorino at jlorino@hearcenter.org
URL:https://www.hearcenter.org/event/free-hearing-screening-in-pasadena-3/
LOCATION:Pasadena Senior Center\, 85 E. Holly St.\, Pasadena\, CA\, 91103\, United States
END:VEVENT
BEGIN:VEVENT
DTSTART;TZID=America/Los_Angeles:20240319T173000
DTEND;TZID=America/Los_Angeles:20240319T193000
DTSTAMP:20260423T054450
CREATED:20230724T165738Z
LAST-MODIFIED:20230724T165744Z
UID:52604-1710869400-1710876600@www.hearcenter.org
SUMMARY:HEAR Center Board of Directors Meeting - In Person
DESCRIPTION:\n					\n						Date\n						March 19\, 2024 \n					\n				\n			\n				\n				\n				\n				\n				\n					\n					\n						Time\n						5:30 PM – Dinner \n6:30 PM – Meeting \n					\n				\n			\n			\n				\n				\n				\n				\n				\n			\n				\n				\n				\n				\n			\n				\n				\n				\n				\n				\n				\n				\n				\n				\n				\n				Board of Directors Meeting in Person
URL:https://www.hearcenter.org/event/hear-center-board-of-directors-meeting-in-person-2/
LOCATION:HEAR Center\, 301 East Del Mar Boulevard\, Pasadena\, CA\, 91101\, United States
ORGANIZER;CN="Hear Center":MAILTO:info@hearcenter.org
END:VEVENT
END:VCALENDAR